BEGIN:VCALENDAR
VERSION:2.0
PRODID:-//Titsey Brewing Co. &amp; Taproom - ECPv6.15.12.2//NONSGML v1.0//EN
CALSCALE:GREGORIAN
METHOD:PUBLISH
X-ORIGINAL-URL:https://titseybrewingco.com
X-WR-CALDESC:Events for Titsey Brewing Co. &amp; Taproom
REFRESH-INTERVAL;VALUE=DURATION:PT1H
X-Robots-Tag:noindex
X-PUBLISHED-TTL:PT1H
BEGIN:VTIMEZONE
TZID:Europe/London
BEGIN:DAYLIGHT
TZOFFSETFROM:+0000
TZOFFSETTO:+0100
TZNAME:BST
DTSTART:20240331T010000
END:DAYLIGHT
BEGIN:STANDARD
TZOFFSETFROM:+0100
TZOFFSETTO:+0000
TZNAME:GMT
DTSTART:20241027T010000
END:STANDARD
BEGIN:DAYLIGHT
TZOFFSETFROM:+0000
TZOFFSETTO:+0100
TZNAME:BST
DTSTART:20250330T010000
END:DAYLIGHT
BEGIN:STANDARD
TZOFFSETFROM:+0100
TZOFFSETTO:+0000
TZNAME:GMT
DTSTART:20251026T010000
END:STANDARD
BEGIN:DAYLIGHT
TZOFFSETFROM:+0000
TZOFFSETTO:+0100
TZNAME:BST
DTSTART:20260329T010000
END:DAYLIGHT
BEGIN:STANDARD
TZOFFSETFROM:+0100
TZOFFSETTO:+0000
TZNAME:GMT
DTSTART:20261025T010000
END:STANDARD
END:VTIMEZONE
BEGIN:VEVENT
DTSTART;TZID=Europe/London:20250705T120000
DTEND;TZID=Europe/London:20250705T223000
DTSTAMP:20260423T051419
CREATED:20250626T093457Z
LAST-MODIFIED:20250626T093457Z
UID:9310-1751716800-1751754600@titseybrewingco.com
SUMMARY:ELEMENTAL MUSIC FESTIVAL
DESCRIPTION:Elemental Music return to Oxted for their first summer festival on 5th July! The team behind the dance tent at Oxted Festival needed a new home for 2025 and are coming to Titsey Brewing Co. to host their own event nestled in the Surrey Hills\, a vast space with far reaching views over Kent and Surrey. \nExpect the best DJ’s playing House\, Disco\, Club Classics and more\, alongside live Sax and performers\, as well as high end production to set the stage for a wonderful day\, bringing a slice of Ibiza to the Surrey hillside. Alongside the music\, there will be a selection of wonderful beers\, drinks and food to keep you going all day and into the night. \nTickets can be purchased here. \n18 + EVENT – ID MAY BE REQUIRED \nTickets are non refundable unless the event does not go ahead\, in which case all tickets will be fully refunded. \nShuttle buses will run to and from the venue to local towns. Tickets for this can be bought via the ticket link.
URL:https://titseybrewingco.com/event/elemental-music-festival/
LOCATION:Titsey Brewing Co.\, Clarks Lane Farm\, Clarks Lane\, Tatsfield\, Surrey\, TN16 2JU\, United Kingdom
CATEGORIES:Brewery,Event,Taproom
ATTACH;FMTTYPE=image/png:https://titseybrewingco.com/wp-content/uploads/2025/06/Screenshot-2025-06-26-at-10.34.25.png
END:VEVENT
END:VCALENDAR