BEGIN:VCALENDAR
VERSION:2.0
PRODID:-//Titsey Brewing Co. &amp; Taproom - ECPv6.15.12.2//NONSGML v1.0//EN
CALSCALE:GREGORIAN
METHOD:PUBLISH
X-WR-CALNAME:Titsey Brewing Co. &amp; Taproom
X-ORIGINAL-URL:https://titseybrewingco.com
X-WR-CALDESC:Events for Titsey Brewing Co. &amp; Taproom
REFRESH-INTERVAL;VALUE=DURATION:PT1H
X-Robots-Tag:noindex
X-PUBLISHED-TTL:PT1H
BEGIN:VTIMEZONE
TZID:Europe/London
BEGIN:DAYLIGHT
TZOFFSETFROM:+0000
TZOFFSETTO:+0100
TZNAME:BST
DTSTART:20240331T010000
END:DAYLIGHT
BEGIN:STANDARD
TZOFFSETFROM:+0100
TZOFFSETTO:+0000
TZNAME:GMT
DTSTART:20241027T010000
END:STANDARD
BEGIN:DAYLIGHT
TZOFFSETFROM:+0000
TZOFFSETTO:+0100
TZNAME:BST
DTSTART:20250330T010000
END:DAYLIGHT
BEGIN:STANDARD
TZOFFSETFROM:+0100
TZOFFSETTO:+0000
TZNAME:GMT
DTSTART:20251026T010000
END:STANDARD
BEGIN:DAYLIGHT
TZOFFSETFROM:+0000
TZOFFSETTO:+0100
TZNAME:BST
DTSTART:20260329T010000
END:DAYLIGHT
BEGIN:STANDARD
TZOFFSETFROM:+0100
TZOFFSETTO:+0000
TZNAME:GMT
DTSTART:20261025T010000
END:STANDARD
END:VTIMEZONE
BEGIN:VEVENT
DTSTART;VALUE=DATE:20250907
DTEND;VALUE=DATE:20250908
DTSTAMP:20260423T022754
CREATED:20250701T220403Z
LAST-MODIFIED:20250701T220734Z
UID:9319-1757203200-1757289599@titseybrewingco.com
SUMMARY:Wolfe of Westerham Sportive
DESCRIPTION:The Wolfe of Westerham Sportive Returns for 2025!\nGet ready to ride – The Wolfe of Westerham is back for 2025\, and it’s going to be bigger and better than ever! Mark your calendars for Sunday\, 7th September\, and join us for a legendary day in the saddle\, set against the stunning backdrop of Kent and Surrey’s most beautiful back roads and lanes. \nNEW HQ & NEW ROUTES for 2025:\nWe’re excited to announce a brand new event HQ – the Titsey Hill Brewery & Taproom. This unique venue will serve as the perfect basecamp for your ride and post-ride celebrations. \nTwo Route Options to Challenge Every Rider: \n– Long Route – Approx. 105km with 1570m of climbing \n– Short Route – Approx. 65km with 925m of climbing \nBoth routes are packed with scenic views\, punchy climbs\, and quiet lanes – perfect for a late summer ride. And for those who love a challenge\, you’ll have the opportunity to take on the iconic Yorks Hill\, one of the most notorious climbs in the area! \nWhat to Expect:\n– Beautiful countryside riding through the Kent and Surrey Hills \n– A vibrant post-ride atmosphere back at Titsey Hill Brewery & Taproom \n– Live DJ spinning chilled beats all afternoon \n– Tasty food options available for purchase \n– Feed stations packed with tasty refuelling treats \n– One free beer for every rider – our way of saying well done! \n– Great vibes\, great company\, and a celebration of bikes\, beer\, and summer \nImportant Ride Info:\nPlease note: The sportive is self-guided and routes will not be signposted. All riders will need to download the GPX file\, which will be made available one week prior to the event. Make sure your device is charged and ready\, and stick with your group to enjoy the ride safely and smoothly. \nSo\, whether you’re here to push your limits or just enjoy a beautiful day on the bike with friends\, come ride the Wolfe – and party with us afterwards at one of the region’s finest breweries. \nRide bikes. Drink beer. Party.\nWe can’t wait to see you at Titsey Hill Brewery & Taproom this September!
URL:https://titseybrewingco.com/event/wolfe-of-westerham-sportive/
LOCATION:Titsey Brewing Co.\, Clarks Lane Farm\, Clarks Lane\, Tatsfield\, Surrey\, TN16 2JU\, United Kingdom
CATEGORIES:Brewery,Event,Taproom
ATTACH;FMTTYPE=image/jpeg:https://titseybrewingco.com/wp-content/uploads/2025/07/1-1.jpg
END:VEVENT
BEGIN:VEVENT
DTSTART;TZID=Europe/London:20250914T080000
DTEND;TZID=Europe/London:20250914T170000
DTSTAMP:20260423T022754
CREATED:20250725T100002Z
LAST-MODIFIED:20250912T105721Z
UID:9360-1757836800-1757869200@titseybrewingco.com
SUMMARY:TAP DU TOUR - A UNIQUE CYCLING EVENT
DESCRIPTION:Join us for a scenic 100km cycle ride through the stunning countryside lanes of Surrey\, Kent\, and Sussex. Starting and finishing at the Titsey Taproom\, this scenic route features rolling hills\, a few challenging climbs\, (1000m) and sweeping rural views—perfect for all looking for a memorable and enjoyable day out. \nWe’ll have a stop at the Missing Link Taproom – https://missinglinkbrewing.com – where food and refreshments are available to purchase\, for a well-deserved break before looping back to Titsey for post-ride refreshments. A great mix of effort\, exploration\, and craft beer. We’ll have a complimentary feed stop available to all riders around the Edenbridge area. \nAfter you have conquered the ride\, you return to the Brewery for a well-earned Titsey beer and refreshments will be waiting. \nCan’t join the ride? No worries! Come down to the brewery to cheer on the riders\, and revel in the post-ride festivities. \nEvent Schedule \nSunday 14th September 2025 \n8:00am – Arrival from 8am at Titsey Brewery – Clarks Lane Farm\, Tatsfield\, TN16 2JU – Please do not arrive before 8am. \n8:30am – Registration \n9:00am – Departures start – riders will be started on a staggered basis \n1:00pm – Riders will start to return to the brewery where there will be beer and food available to purchase at the Taproom. \nAge 16 and over as of 14th September 2025 \n  \nEvent Support / What’s Included \nEvent Centre facilities \nFeed Station at The Missing Link Brewery \nMechanic and tune up facilities at start/finish – \nGoody bag with a Titsey Beer \n  \nTicket Details: \nPrice: £40 per person – plus the booking fee from TicketSource \nPurchase event tickets online: www.ticketsource.co.uk/titseybrewingco \n  \nCourse Map / GPX File:  \nComing soon! \nEvent riders will get a full downloadable GPX file of the map/route – PLEASE NOTE: The route GPX file is sent a few days before the event.
URL:https://titseybrewingco.com/event/tap-du-tour/
LOCATION:Titsey Brewing Co.\, Clarks Lane Farm\, Clarks Lane\, Tatsfield\, Surrey\, TN16 2JU\, United Kingdom
CATEGORIES:Brewery,Event,Taproom
ATTACH;FMTTYPE=image/jpeg:https://titseybrewingco.com/wp-content/uploads/2025/07/header-web.jpg
END:VEVENT
BEGIN:VEVENT
DTSTART;VALUE=DATE:20250927
DTEND;VALUE=DATE:20250928
DTSTAMP:20260423T022754
CREATED:20250710T122232Z
LAST-MODIFIED:20250710T122232Z
UID:9331-1758931200-1759017599@titseybrewingco.com
SUMMARY:Wolfe Gravel & Grit
DESCRIPTION:Gravel/CX MTB bikes | 1 day Gravel Adventure | Fully Supported | 75 or 105km options.\nForget the roads\, this 105km (or shorter 75km) gravel ride throws you deep into the heart of Kent. Expect a wild ride through the woods atop the Greensand Ridge\, where the singletrack flows and the adrenaline pumps. \nSpot Knowle House\, a seriously impressive Jacobean mansion as you cruise through the Deer Park. Then\, prepare for the magic of Ightham Mote\, a medieval moated manor house that’ll leave you spellbound. And don’t forget to tackle the climb to Vigo Village – the views from the North Downs are worth every pedal stroke. \nThis ain’t no Sunday spin. Expect a mix of flowing gravel\, challenging singletrack\, and some seriously fun off-road sections. Over 60% of the route is off-road\, so get ready to get gritty! Perfect for London’s gravel-hungry cyclists looking for an adventure just outside London. \nWoodland Trails: Howl through the woods atop the Greensand Ridge\, enjoying the thrill of flowing single track. \nHistoric Landmarks: Knole House\, a stunning Jacobean mansion\, and pass through its picturesque Deer Park. Encounter the enchanting Ightham Mote\, a medieval moated manor house. \nChallenging Climbs: Tackle the invigorating ascent to Vigo Village on the North Downs Ridge\, rewarding yourself with breathtaking views. \nDiverse Terrain: Explore a thrilling mix of woodland trails\, gravel paths\, and some challenging singletrack\, all connected by quiet country lanes. \nEnjoy the reward a the Titsey Brewery’s end of race party. \n 
URL:https://titseybrewingco.com/event/wolfe-gravel-grit/
LOCATION:Titsey Brewing Co.\, Clarks Lane Farm\, Clarks Lane\, Tatsfield\, Surrey\, TN16 2JU\, United Kingdom
CATEGORIES:Brewery,Event,Taproom
ATTACH;FMTTYPE=image/png:https://titseybrewingco.com/wp-content/uploads/2025/07/wolfe-gravel.png
END:VEVENT
END:VCALENDAR