BEGIN:VCALENDAR
VERSION:2.0
PRODID:-//Titsey Brewing Co. &amp; Taproom - ECPv6.15.12.2//NONSGML v1.0//EN
CALSCALE:GREGORIAN
METHOD:PUBLISH
X-ORIGINAL-URL:https://titseybrewingco.com
X-WR-CALDESC:Events for Titsey Brewing Co. &amp; Taproom
REFRESH-INTERVAL;VALUE=DURATION:PT1H
X-Robots-Tag:noindex
X-PUBLISHED-TTL:PT1H
BEGIN:VTIMEZONE
TZID:Europe/London
BEGIN:DAYLIGHT
TZOFFSETFROM:+0000
TZOFFSETTO:+0100
TZNAME:BST
DTSTART:20240331T010000
END:DAYLIGHT
BEGIN:STANDARD
TZOFFSETFROM:+0100
TZOFFSETTO:+0000
TZNAME:GMT
DTSTART:20241027T010000
END:STANDARD
BEGIN:DAYLIGHT
TZOFFSETFROM:+0000
TZOFFSETTO:+0100
TZNAME:BST
DTSTART:20250330T010000
END:DAYLIGHT
BEGIN:STANDARD
TZOFFSETFROM:+0100
TZOFFSETTO:+0000
TZNAME:GMT
DTSTART:20251026T010000
END:STANDARD
BEGIN:DAYLIGHT
TZOFFSETFROM:+0000
TZOFFSETTO:+0100
TZNAME:BST
DTSTART:20260329T010000
END:DAYLIGHT
BEGIN:STANDARD
TZOFFSETFROM:+0100
TZOFFSETTO:+0000
TZNAME:GMT
DTSTART:20261025T010000
END:STANDARD
END:VTIMEZONE
BEGIN:VEVENT
DTSTART;TZID=Europe/London:20250830T120000
DTEND;TZID=Europe/London:20250830T223000
DTSTAMP:20260423T051507
CREATED:20250723T205547Z
LAST-MODIFIED:20250810T201502Z
UID:9343-1756555200-1756593000@titseybrewingco.com
SUMMARY:Titsey Summer Festival 2025
DESCRIPTION:Titsey Spring Festival returns with the Titsey Summer Festival!\nSaturday 30th August | 12pm – 10:30pm\nAfter the massive success of the Titsey Spring Festival\, We’re back. Bigger\, brighter\, and better than ever for the summer! Join us for an unforgettable family-friendly day celebrating good food\, refreshing drinks\, kids entertainment and sensational live music\, all set against the picturesque backdrop of the North Downs. \nMore delicious Titsey Brewery beers and a fully stocked bar \nMore varied local food stalls with cheaper options available  \nMore live music all day and now including an acoustic stage \nGetting the party started this time with Randy and the Rockets – Acoustic acts from some of your favourite locals! – Cool reggae with Dread Centre – Pop covers with The Nameless – Pirate shanties with The Captain’s Beard – Dance the night away with the fantastic DJ Seb Emmins \n\nMore kids entertainment and games\nBreathtaking views of the stunning North Downs\nGather your friends and family\, bring a blanket\, and prepare for the ultimate summer day out!\nGet Your Early Bird Tickets Now – Don’t Miss Out!\nExperience the best of local tastes\, sounds\, and vibes. Make memories that’ll last all summer.\n\nSee you at the Titsey Summer Festival—where great beer\, delicious food\, and amazing music come together! \n* free parking \n#TitseySummerFestival #48KEvents \nBuy Tickets Online Now – Click Here
URL:https://titseybrewingco.com/event/titsey-summer-festival/
LOCATION:Titsey Taproom\, Clarks Lane Farm\, Tatsfield\, Surrey\, TN16 2JU\, United Kingdom
CATEGORIES:Brewery,Event,Taproom
ATTACH;FMTTYPE=image/jpeg:https://titseybrewingco.com/wp-content/uploads/2025/07/2.jpg
END:VEVENT
END:VCALENDAR