BEGIN:VCALENDAR
VERSION:2.0
PRODID:-//Titsey Brewing Co. &amp; Taproom - ECPv6.15.12.2//NONSGML v1.0//EN
CALSCALE:GREGORIAN
METHOD:PUBLISH
X-WR-CALNAME:Titsey Brewing Co. &amp; Taproom
X-ORIGINAL-URL:https://titseybrewingco.com
X-WR-CALDESC:Events for Titsey Brewing Co. &amp; Taproom
REFRESH-INTERVAL;VALUE=DURATION:PT1H
X-Robots-Tag:noindex
X-PUBLISHED-TTL:PT1H
BEGIN:VTIMEZONE
TZID:Europe/London
BEGIN:DAYLIGHT
TZOFFSETFROM:+0000
TZOFFSETTO:+0100
TZNAME:BST
DTSTART:20240331T010000
END:DAYLIGHT
BEGIN:STANDARD
TZOFFSETFROM:+0100
TZOFFSETTO:+0000
TZNAME:GMT
DTSTART:20241027T010000
END:STANDARD
BEGIN:DAYLIGHT
TZOFFSETFROM:+0000
TZOFFSETTO:+0100
TZNAME:BST
DTSTART:20250330T010000
END:DAYLIGHT
BEGIN:STANDARD
TZOFFSETFROM:+0100
TZOFFSETTO:+0000
TZNAME:GMT
DTSTART:20251026T010000
END:STANDARD
BEGIN:DAYLIGHT
TZOFFSETFROM:+0000
TZOFFSETTO:+0100
TZNAME:BST
DTSTART:20260329T010000
END:DAYLIGHT
BEGIN:STANDARD
TZOFFSETFROM:+0100
TZOFFSETTO:+0000
TZNAME:GMT
DTSTART:20261025T010000
END:STANDARD
END:VTIMEZONE
BEGIN:VEVENT
DTSTART;TZID=Europe/London:20250927T083000
DTEND;TZID=Europe/London:20250927T110000
DTSTAMP:20260424T135145
CREATED:20250702T171257Z
LAST-MODIFIED:20250830T111302Z
UID:9398-1758961800-1758970800@titseybrewingco.com
SUMMARY:PILATES & BRUNCH CLUB | with The Walking Club Community
DESCRIPTION:Pilates & Brunch Club \nSaturday 27th September | The Lawn at Titsey Taproom | 8.20am meet\, 8.30am start \nWe’re back with what will likely be our last Pilates & Brunch Club of the year – let’s make it count! \nLed by the brilliant Alice\, the 45-minute class is suitable for all levels\, whether you’re a Pilates regular or trying it for the first time. \nStick around after class for a relaxed brunch in the Taproom with fresh coffee\, delicious breakfast buns and great company. \n*Please note\, the pilates class is not suitable for who those are pregnant. *Please bring your own mat. *Coffee/brunch not included with ticket. *Toilets + water available. \nTIMINGS:\n8.20am Meet for introduction\n8.30am: Pilates\n9.30am: Brunch
URL:https://titseybrewingco.com/event/barre-pilates-class-brunch-titsey-taproom/
LOCATION:Titsey Taproom\, Clarks Lane Farm\, Tatsfield\, Surrey\, TN16 2JU\, United Kingdom
CATEGORIES:Event,Taproom
ATTACH;FMTTYPE=image/png:https://titseybrewingco.com/wp-content/uploads/2025/06/EXT-Landscape-Event-Headers.png
END:VEVENT
END:VCALENDAR