BEGIN:VCALENDAR
VERSION:2.0
PRODID:-//Titsey Brewing Co. &amp; Taproom - ECPv6.15.12.2//NONSGML v1.0//EN
CALSCALE:GREGORIAN
METHOD:PUBLISH
X-ORIGINAL-URL:https://titseybrewingco.com
X-WR-CALDESC:Events for Titsey Brewing Co. &amp; Taproom
REFRESH-INTERVAL;VALUE=DURATION:PT1H
X-Robots-Tag:noindex
X-PUBLISHED-TTL:PT1H
BEGIN:VTIMEZONE
TZID:Europe/London
BEGIN:DAYLIGHT
TZOFFSETFROM:+0000
TZOFFSETTO:+0100
TZNAME:BST
DTSTART:20240331T010000
END:DAYLIGHT
BEGIN:STANDARD
TZOFFSETFROM:+0100
TZOFFSETTO:+0000
TZNAME:GMT
DTSTART:20241027T010000
END:STANDARD
BEGIN:DAYLIGHT
TZOFFSETFROM:+0000
TZOFFSETTO:+0100
TZNAME:BST
DTSTART:20250330T010000
END:DAYLIGHT
BEGIN:STANDARD
TZOFFSETFROM:+0100
TZOFFSETTO:+0000
TZNAME:GMT
DTSTART:20251026T010000
END:STANDARD
BEGIN:DAYLIGHT
TZOFFSETFROM:+0000
TZOFFSETTO:+0100
TZNAME:BST
DTSTART:20260329T010000
END:DAYLIGHT
BEGIN:STANDARD
TZOFFSETFROM:+0100
TZOFFSETTO:+0000
TZNAME:GMT
DTSTART:20261025T010000
END:STANDARD
END:VTIMEZONE
BEGIN:VEVENT
DTSTART;TZID=Europe/London:20251130T140000
DTEND;TZID=Europe/London:20251130T170000
DTSTAMP:20260424T135634
CREATED:20251015T171334Z
LAST-MODIFIED:20251128T124422Z
UID:9616-1764511200-1764522000@titseybrewingco.com
SUMMARY:WINTER WANDER + WREATH MAKING | with Catkin & Conker
DESCRIPTION:Winter Wander + Wreathing Making Workshop – Sunday 30th November| 2pm – 5pm \n*SOLD OUT* \nMake a Christmas wreath with Catkin & Conker. Slow down\, treat your senses\, and connect with the winter season. \nJoin us for a short wander along our Nature Trail\, the Clarks Lane Ancient Woodland (just behind the Taproom)\, to see what wintry treasures we can find. Come back to the cosy bar and indulge in a mulled wine or juice as you weave your own willow wreath base. \nLucy will guide you to decorate it with fragrant foraged evergreens and natural festive touches; dried oranges\, cinnamon sticks\, pine cones and more. \nMulled beverage and a warm welcome are included! \nAll materials and tools provided. \nSpaces are limited\, so book early to secure your spot. \nPrice – £55 per person – tickets include one drink \nLocation: The Tanks\, Titsey Taproom \nKitchen hours: 12.30pm – 6pm
URL:https://titseybrewingco.com/event/festive-christmas-wreath-making-workshop/
LOCATION:Titsey Taproom\, Clarks Lane Farm\, Tatsfield\, Surrey\, TN16 2JU\, United Kingdom
CATEGORIES:Event,Taproom
ATTACH;FMTTYPE=image/png:https://titseybrewingco.com/wp-content/uploads/2025/10/14.png
END:VEVENT
END:VCALENDAR