BEGIN:VCALENDAR
VERSION:2.0
PRODID:-//Titsey Brewing Co. &amp; Taproom - ECPv6.15.12.2//NONSGML v1.0//EN
CALSCALE:GREGORIAN
METHOD:PUBLISH
X-WR-CALNAME:Titsey Brewing Co. &amp; Taproom
X-ORIGINAL-URL:https://titseybrewingco.com
X-WR-CALDESC:Events for Titsey Brewing Co. &amp; Taproom
REFRESH-INTERVAL;VALUE=DURATION:PT1H
X-Robots-Tag:noindex
X-PUBLISHED-TTL:PT1H
BEGIN:VTIMEZONE
TZID:Europe/London
BEGIN:DAYLIGHT
TZOFFSETFROM:+0000
TZOFFSETTO:+0100
TZNAME:BST
DTSTART:20240331T010000
END:DAYLIGHT
BEGIN:STANDARD
TZOFFSETFROM:+0100
TZOFFSETTO:+0000
TZNAME:GMT
DTSTART:20241027T010000
END:STANDARD
BEGIN:DAYLIGHT
TZOFFSETFROM:+0000
TZOFFSETTO:+0100
TZNAME:BST
DTSTART:20250330T010000
END:DAYLIGHT
BEGIN:STANDARD
TZOFFSETFROM:+0100
TZOFFSETTO:+0000
TZNAME:GMT
DTSTART:20251026T010000
END:STANDARD
BEGIN:DAYLIGHT
TZOFFSETFROM:+0000
TZOFFSETTO:+0100
TZNAME:BST
DTSTART:20260329T010000
END:DAYLIGHT
BEGIN:STANDARD
TZOFFSETFROM:+0100
TZOFFSETTO:+0000
TZNAME:GMT
DTSTART:20261025T010000
END:STANDARD
END:VTIMEZONE
BEGIN:VEVENT
DTSTART;TZID=Europe/London:20251030T130000
DTEND;TZID=Europe/London:20251030T143000
DTSTAMP:20260424T002044
CREATED:20250830T113311Z
LAST-MODIFIED:20250929T195733Z
UID:9465-1761829200-1761834600@titseybrewingco.com
SUMMARY:HALLOWEEN TOTE BAG WORKSHOP | with Amanda Ellis
DESCRIPTION:Halloween Tote Bag Workshop | Thursday 30th October \nGet creative this spooky season! Join local artist Amanda Ellis for a special 2-hour workshop where kids (and parents!) can design and decorate their very own Halloween-inspired tote bags. \nAll materials are included – just bring your imagination. By the end of the session\, you’ll head home with a one-of-a-kind bag that’s perfect for trick-or-treating. \nA fun\, hands-on activity for children and parents to enjoy together. Your ticket includes all materials and hands on guidance from Amanda. \nWorkshop time: 1pm – 2.30pm \nLocation: The Tanks\, Titsey Taproom \nThe bar will be opening for soft drinks\, coffees\, teas etc all afternoon and our kitchen will be open for lunch from 12.30 – 3pm. \nLimited tickets available: Book here \nAmanda’s last events (Paint & Sip):
URL:https://titseybrewingco.com/event/kids-halloween-tote-bag-painting-workshop/
LOCATION:Titsey Taproom\, Clarks Lane Farm\, Tatsfield\, Surrey\, TN16 2JU\, United Kingdom
CATEGORIES:Event,Taproom
ATTACH;FMTTYPE=image/png:https://titseybrewingco.com/wp-content/uploads/2025/08/22.png
END:VEVENT
END:VCALENDAR