BEGIN:VCALENDAR
VERSION:2.0
PRODID:-//Titsey Brewing Co. &amp; Taproom - ECPv6.15.12.2//NONSGML v1.0//EN
CALSCALE:GREGORIAN
METHOD:PUBLISH
X-WR-CALNAME:Titsey Brewing Co. &amp; Taproom
X-ORIGINAL-URL:https://titseybrewingco.com
X-WR-CALDESC:Events for Titsey Brewing Co. &amp; Taproom
REFRESH-INTERVAL;VALUE=DURATION:PT1H
X-Robots-Tag:noindex
X-PUBLISHED-TTL:PT1H
BEGIN:VTIMEZONE
TZID:Europe/London
BEGIN:DAYLIGHT
TZOFFSETFROM:+0000
TZOFFSETTO:+0100
TZNAME:BST
DTSTART:20250330T010000
END:DAYLIGHT
BEGIN:STANDARD
TZOFFSETFROM:+0100
TZOFFSETTO:+0000
TZNAME:GMT
DTSTART:20251026T010000
END:STANDARD
BEGIN:DAYLIGHT
TZOFFSETFROM:+0000
TZOFFSETTO:+0100
TZNAME:BST
DTSTART:20260329T010000
END:DAYLIGHT
BEGIN:STANDARD
TZOFFSETFROM:+0100
TZOFFSETTO:+0000
TZNAME:GMT
DTSTART:20261025T010000
END:STANDARD
BEGIN:DAYLIGHT
TZOFFSETFROM:+0000
TZOFFSETTO:+0100
TZNAME:BST
DTSTART:20270328T010000
END:DAYLIGHT
BEGIN:STANDARD
TZOFFSETFROM:+0100
TZOFFSETTO:+0000
TZNAME:GMT
DTSTART:20271031T010000
END:STANDARD
END:VTIMEZONE
BEGIN:VEVENT
DTSTART;TZID=Europe/London:20260319T190000
DTEND;TZID=Europe/London:20260319T210000
DTSTAMP:20260420T064208
CREATED:20250307T163713Z
LAST-MODIFIED:20260307T111954Z
UID:8983-1773946800-1773954000@titseybrewingco.com
SUMMARY:Titsey Taproom Sessions | Live Music with Nick Woods
DESCRIPTION:Always a full house and the best vibes – Nick Woods returns with his timeless country and folk sound to set the tone for a great night. \nTime: 7pm – 9pm \nKitchen hours: 5pm ’til 8pm \nReservations highly recommended: Book here | 01959 528535
URL:https://titseybrewingco.com/event/titsey-taproom-sessions-x-nick-woods/
LOCATION:Titsey Taproom\, Clarks Lane Farm\, Tatsfield\, Surrey\, TN16 2JU\, United Kingdom
CATEGORIES:Event,Taproom
ATTACH;FMTTYPE=image/png:https://titseybrewingco.com/wp-content/uploads/2025/03/3.png
END:VEVENT
END:VCALENDAR