BEGIN:VCALENDAR
VERSION:2.0
PRODID:-//Titsey Brewing Co. &amp; Taproom - ECPv6.15.12.2//NONSGML v1.0//EN
CALSCALE:GREGORIAN
METHOD:PUBLISH
X-ORIGINAL-URL:https://titseybrewingco.com
X-WR-CALDESC:Events for Titsey Brewing Co. &amp; Taproom
REFRESH-INTERVAL;VALUE=DURATION:PT1H
X-Robots-Tag:noindex
X-PUBLISHED-TTL:PT1H
BEGIN:VTIMEZONE
TZID:Europe/London
BEGIN:DAYLIGHT
TZOFFSETFROM:+0000
TZOFFSETTO:+0100
TZNAME:BST
DTSTART:20240331T010000
END:DAYLIGHT
BEGIN:STANDARD
TZOFFSETFROM:+0100
TZOFFSETTO:+0000
TZNAME:GMT
DTSTART:20241027T010000
END:STANDARD
BEGIN:DAYLIGHT
TZOFFSETFROM:+0000
TZOFFSETTO:+0100
TZNAME:BST
DTSTART:20250330T010000
END:DAYLIGHT
BEGIN:STANDARD
TZOFFSETFROM:+0100
TZOFFSETTO:+0000
TZNAME:GMT
DTSTART:20251026T010000
END:STANDARD
BEGIN:DAYLIGHT
TZOFFSETFROM:+0000
TZOFFSETTO:+0100
TZNAME:BST
DTSTART:20260329T010000
END:DAYLIGHT
BEGIN:STANDARD
TZOFFSETFROM:+0100
TZOFFSETTO:+0000
TZNAME:GMT
DTSTART:20261025T010000
END:STANDARD
END:VTIMEZONE
BEGIN:VEVENT
DTSTART;TZID=Europe/London:20250424T190000
DTEND;TZID=Europe/London:20250424T210000
DTSTAMP:20260424T051404
CREATED:20250331T195842Z
LAST-MODIFIED:20250419T083230Z
UID:9032-1745521200-1745528400@titseybrewingco.com
SUMMARY:Wine Tasting | with Jack Hudson (SOLD OUT)
DESCRIPTION:Join us for an evening tasting top-tier wines\, handpicked and exclusively imported by our friends down the road at Botley. Guided by WSET-qualified Jack Hudson\, you’ll explore a curated selection\, sip by sip. \nTasting note cards will be provided\, so you can jot down your thoughts\, favourites\, and maybe even discover something new. There will also be bottles available to buy and take home at the end of the evening. \nSpaces are limited\, so book your spot now to avoid missing out! \nThursday 24th April\, 7 ’til 9pm | BOOK HERE
URL:https://titseybrewingco.com/event/wine-tasting-evening-titsey-taproom/
LOCATION:Titsey Taproom\, Clarks Lane Farm\, Tatsfield\, Surrey\, TN16 2JU\, United Kingdom
CATEGORIES:Taproom
ATTACH;FMTTYPE=image/png:https://titseybrewingco.com/wp-content/uploads/2025/03/EXT-Landscape-Event-Headers-3.png
END:VEVENT
END:VCALENDAR