BEGIN:VCALENDAR
VERSION:2.0
PRODID:-//Titsey Brewing Co. &amp; Taproom - ECPv6.15.12.2//NONSGML v1.0//EN
CALSCALE:GREGORIAN
METHOD:PUBLISH
X-ORIGINAL-URL:https://titseybrewingco.com
X-WR-CALDESC:Events for Titsey Brewing Co. &amp; Taproom
REFRESH-INTERVAL;VALUE=DURATION:PT1H
X-Robots-Tag:noindex
X-PUBLISHED-TTL:PT1H
BEGIN:VTIMEZONE
TZID:Europe/London
BEGIN:DAYLIGHT
TZOFFSETFROM:+0000
TZOFFSETTO:+0100
TZNAME:BST
DTSTART:20240331T010000
END:DAYLIGHT
BEGIN:STANDARD
TZOFFSETFROM:+0100
TZOFFSETTO:+0000
TZNAME:GMT
DTSTART:20241027T010000
END:STANDARD
BEGIN:DAYLIGHT
TZOFFSETFROM:+0000
TZOFFSETTO:+0100
TZNAME:BST
DTSTART:20250330T010000
END:DAYLIGHT
BEGIN:STANDARD
TZOFFSETFROM:+0100
TZOFFSETTO:+0000
TZNAME:GMT
DTSTART:20251026T010000
END:STANDARD
BEGIN:DAYLIGHT
TZOFFSETFROM:+0000
TZOFFSETTO:+0100
TZNAME:BST
DTSTART:20260329T010000
END:DAYLIGHT
BEGIN:STANDARD
TZOFFSETFROM:+0100
TZOFFSETTO:+0000
TZNAME:GMT
DTSTART:20261025T010000
END:STANDARD
END:VTIMEZONE
BEGIN:VEVENT
DTSTART;TZID=Europe/London:20250703T190000
DTEND;TZID=Europe/London:20250703T210000
DTSTAMP:20260424T133417
CREATED:20250103T142132Z
LAST-MODIFIED:20250530T200046Z
UID:8831-1751569200-1751576400@titseybrewingco.com
SUMMARY:QUIZ NIGHT
DESCRIPTION:Our monthly quiz night returns to the Titsey taproom! This night is always SO popular so grab your team and get a table booked asap. We will get fully booked…fast! \nTime: from 7pm onwards \nTeams: from 2 – 6 people \nOur Taproom kitchen will be open until 8pm\, serving up burgers & delicious sides. \nRecommended beer: Titsey’s Cloud24Zero\, our non-alcoholic cloudy pale ale on tap (to keep a clear head for those tough questions!) \nPrizes to be won! \nTo book: click here |  07301 170171
URL:https://titseybrewingco.com/event/quiz-night-titsey-taproom-evening-event/
LOCATION:Titsey Taproom\, Clarks Lane Farm\, Tatsfield\, Surrey\, TN16 2JU\, United Kingdom
CATEGORIES:Event,Taproom
ATTACH;FMTTYPE=image/png:https://titseybrewingco.com/wp-content/uploads/2025/02/EXT-Landscape-Event-Headers-10.png
END:VEVENT
BEGIN:VEVENT
DTSTART;TZID=Europe/London:20250706T140000
DTEND;TZID=Europe/London:20250706T160000
DTSTAMP:20260424T133417
CREATED:20250623T110227Z
LAST-MODIFIED:20250623T112238Z
UID:9266-1751810400-1751817600@titseybrewingco.com
SUMMARY:SUN-SETS: Chris Harper
DESCRIPTION:Local singer-songwriter Chris Harper makes his debut Taproom performance at SUN-SETS this July.  \nBringing his laid-back\, soulful sound to the lawn\, Chris will perform a mix of originals songs and well-loved covers – perfect for a chilled Sunday afternoon. \n\nSoak up the sounds every sunny Sunday from 2-4pm\, with a drink in hand and a plate of something tasty. \nGet down early to grab a front-seat table or hay bale\, or bring a picnic blanket / camping chair and lounge on the lawn. \nCheck out the full line-up for July – \n \n 
URL:https://titseybrewingco.com/event/sun-sets-chris-harper-live-music/
LOCATION:Titsey Taproom\, Clarks Lane Farm\, Tatsfield\, Surrey\, TN16 2JU\, United Kingdom
CATEGORIES:Event,Taproom
ATTACH;FMTTYPE=image/png:https://titseybrewingco.com/wp-content/uploads/2025/02/14.png
END:VEVENT
BEGIN:VEVENT
DTSTART;TZID=Europe/London:20250713T140000
DTEND;TZID=Europe/London:20250713T160000
DTSTAMP:20260424T133417
CREATED:20250623T110511Z
LAST-MODIFIED:20250623T110721Z
UID:9271-1752415200-1752422400@titseybrewingco.com
SUMMARY:SUN-SETS: DJ | Chilled Ibiza House & Disco
DESCRIPTION:DJ Eldeanyo is back to set the vibe for the first DJ set of July\, with chilled ibiza house and disco tunes soundtracking your afternoon in the sun. \n\nSoak up the sounds every sunny Sunday from 2-4pm\, with a drink in hand and a plate of something tasty. \nGet down early to grab a front-seat table or hay bale\, or bring a picnic blanket / camping chair and lounge on the lawn.
URL:https://titseybrewingco.com/event/sun-sets-dj-chilled-ibiza-house-disco/
LOCATION:Titsey Taproom\, Clarks Lane Farm\, Tatsfield\, Surrey\, TN16 2JU\, United Kingdom
CATEGORIES:Event,Taproom
ATTACH;FMTTYPE=image/png:https://titseybrewingco.com/wp-content/uploads/2025/02/14.png
END:VEVENT
BEGIN:VEVENT
DTSTART;TZID=Europe/London:20250719T083000
DTEND;TZID=Europe/London:20250719T103000
DTSTAMP:20260424T133417
CREATED:20250624T122936Z
LAST-MODIFIED:20250624T123018Z
UID:9298-1752913800-1752921000@titseybrewingco.com
SUMMARY:PILATES & BRUNCH CLUB | with The Walking Club Community
DESCRIPTION:Pilates & Brunch Club with The Walking Club Community | Friday 19th July\, 8.30am \nJoin us bright and early for another round of Pilates & Brunch Club\, led by the wonderful Alice from The Walking Club Community. \nExpect a feel good morning that kicks off with a 45-minute dynamic Pilates class on the lawn — a perfect way to stretch out\, build strength and set the tone for your day. \nAfter class\, head into the Taproom to enjoy great coffee and a delicious brunch with your fellow movers — a great way to meet like-minded people. \nSuitable for all levels — just bring a mat and some energy. \n*Please note\, this class is not suitable for who those are pregnant.\n*Please bring your own mat.\n*Coffee/brunch not included with free ticket. \n8.35am Introduction\n8.45am: Pilates Class\n9.30am: Coffee & Brunch \nLimited tickets available here.
URL:https://titseybrewingco.com/event/pilates-brunch-club-with-the-walking-club-community/
LOCATION:Titsey Taproom\, Clarks Lane Farm\, Tatsfield\, Surrey\, TN16 2JU\, United Kingdom
CATEGORIES:Event,Taproom
ATTACH;FMTTYPE=image/png:https://titseybrewingco.com/wp-content/uploads/2025/06/EXT-Landscape-Event-Headers.png
END:VEVENT
BEGIN:VEVENT
DTSTART;TZID=Europe/London:20250720T140000
DTEND;TZID=Europe/London:20250720T160000
DTSTAMP:20260424T133417
CREATED:20250623T112026Z
LAST-MODIFIED:20250623T120917Z
UID:9279-1753020000-1753027200@titseybrewingco.com
SUMMARY:SUN-SETS: Will Jones
DESCRIPTION:Will Jones is back – this time bringing his easy acoustic sound to the SUN-SETS lawn. \nWith a smooth\, soulful voice and laid-back style\, his set is just the thing for a relaxed Sunday afternoon in the sunshine. \n\nSoak up the sounds every sunny Sunday from 2-4pm\, with a drink in hand and a plate of something tasty. \nGet down early to grab a front-seat table or hay bale\, or bring a picnic blanket / camping chair and lounge on the lawn. \nCheck out the full line-up for July – \n \n 
URL:https://titseybrewingco.com/event/sun-sets-will-jones-live-music/
LOCATION:Titsey Taproom\, Clarks Lane Farm\, Tatsfield\, Surrey\, TN16 2JU\, United Kingdom
CATEGORIES:Event,Taproom
ATTACH;FMTTYPE=image/png:https://titseybrewingco.com/wp-content/uploads/2025/02/14.png
END:VEVENT
BEGIN:VEVENT
DTSTART;TZID=Europe/London:20250724T180000
DTEND;TZID=Europe/London:20250724T210000
DTSTAMP:20260424T133417
CREATED:20250528T124954Z
LAST-MODIFIED:20250623T114158Z
UID:9199-1753380000-1753390800@titseybrewingco.com
SUMMARY:PAINT & SIP NIGHT | with Amanda Ellis
DESCRIPTION:Continuing our series of Paint & Sip Nights al fresco throughout the summer\, the wonderful Amanda Ellis is hosting a watercolour workshop\, guiding you through the process of creating your very own sunny balcony scene in [insert European destination of your choice]. \n \nNo experience? No problem. Amanda will guide you through each step\, and all materials will be supplied. \nYour ticket includes a drink of your choice\, whether that’s a beer flight\, glass of wine\, or a soft drink\, and they’ll be chances to top up your glass (or plate!) throughout. \nTime: 6pm – 9pm \nLocation: The Hop Garden\, Titsey Taproom \nKitchen hours: 5pm ’til 8pm \nLimited tickets available: Book here \n  \nLast event –
URL:https://titseybrewingco.com/event/paint-and-sip-art-class-workshop/
LOCATION:Titsey Taproom\, Clarks Lane Farm\, Tatsfield\, Surrey\, TN16 2JU\, United Kingdom
CATEGORIES:Event,Taproom
ATTACH;FMTTYPE=image/png:https://titseybrewingco.com/wp-content/uploads/2025/05/EXT-Landscape-Event-Headers-12.png
END:VEVENT
BEGIN:VEVENT
DTSTART;TZID=Europe/London:20250727T140000
DTEND;TZID=Europe/London:20250727T160000
DTSTAMP:20260424T133417
CREATED:20250623T110634Z
LAST-MODIFIED:20250623T110634Z
UID:9273-1753624800-1753632000@titseybrewingco.com
SUMMARY:SUN-SETS: DJ | Chilled Ibiza House & Disco
DESCRIPTION:DJ Eldeanyo is back to set the vibe for another laidback Sunday\, with some chilled ibiza house and disco tunes to soundtrack your afternoon in the sun. \n\nSoak up the sounds every sunny Sunday from 2-4pm\, with a drink in hand and a plate of something tasty. \nGet down early to grab a front-seat table or hay bale\, or bring a picnic blanket / camping chair and lounge on the lawn.
URL:https://titseybrewingco.com/event/sun-sets-dj-chilled-ibiza-house-disco-2/
LOCATION:Titsey Taproom\, Clarks Lane Farm\, Tatsfield\, Surrey\, TN16 2JU\, United Kingdom
CATEGORIES:Event,Taproom
ATTACH;FMTTYPE=image/png:https://titseybrewingco.com/wp-content/uploads/2025/02/14.png
END:VEVENT
END:VCALENDAR