BEGIN:VCALENDAR
VERSION:2.0
PRODID:-//Titsey Brewing Co. &amp; Taproom - ECPv6.15.12.2//NONSGML v1.0//EN
CALSCALE:GREGORIAN
METHOD:PUBLISH
X-ORIGINAL-URL:https://titseybrewingco.com
X-WR-CALDESC:Events for Titsey Brewing Co. &amp; Taproom
REFRESH-INTERVAL;VALUE=DURATION:PT1H
X-Robots-Tag:noindex
X-PUBLISHED-TTL:PT1H
BEGIN:VTIMEZONE
TZID:Europe/London
BEGIN:DAYLIGHT
TZOFFSETFROM:+0000
TZOFFSETTO:+0100
TZNAME:BST
DTSTART:20250330T010000
END:DAYLIGHT
BEGIN:STANDARD
TZOFFSETFROM:+0100
TZOFFSETTO:+0000
TZNAME:GMT
DTSTART:20251026T010000
END:STANDARD
BEGIN:DAYLIGHT
TZOFFSETFROM:+0000
TZOFFSETTO:+0100
TZNAME:BST
DTSTART:20260329T010000
END:DAYLIGHT
BEGIN:STANDARD
TZOFFSETFROM:+0100
TZOFFSETTO:+0000
TZNAME:GMT
DTSTART:20261025T010000
END:STANDARD
BEGIN:DAYLIGHT
TZOFFSETFROM:+0000
TZOFFSETTO:+0100
TZNAME:BST
DTSTART:20270328T010000
END:DAYLIGHT
BEGIN:STANDARD
TZOFFSETFROM:+0100
TZOFFSETTO:+0000
TZNAME:GMT
DTSTART:20271031T010000
END:STANDARD
END:VTIMEZONE
BEGIN:VEVENT
DTSTART;TZID=Europe/London:20260206T190000
DTEND;TZID=Europe/London:20260206T210000
DTSTAMP:20260420T024416
CREATED:20250921T150113Z
LAST-MODIFIED:20260115T095531Z
UID:9519-1770404400-1770411600@titseybrewingco.com
SUMMARY:QUIZ NIGHT
DESCRIPTION:Titsey Taproom Quiz Night | Friday 6th Feb 7 – 9pm \nOur monthly quiz night returns to the Titsey Taproom! This night is always SO popular so grab your team and get a table booked asap. We will get fully booked…fast! \nQuestions from 7pm onwards. £2pp to enter. \nTeams: from 2 – 6 people \nThe bar will be open until 9pm\, and the kitchen will be open until 8pm\, serving up burgers & delicious sides. \nPrizes to be won! \nTo book your team a table: click here |  07301 170171 | info@titseybrewingco.com
URL:https://titseybrewingco.com/event/quiz-night-titsey-taproom-brewery-2/
LOCATION:Titsey Taproom\, Clarks Lane Farm\, Tatsfield\, Surrey\, TN16 2JU\, United Kingdom
CATEGORIES:Event,Taproom
ATTACH;FMTTYPE=image/png:https://titseybrewingco.com/wp-content/uploads/2025/02/EXT-Landscape-Event-Headers-10.png
END:VEVENT
BEGIN:VEVENT
DTSTART;TZID=Europe/London:20260213T190000
DTEND;TZID=Europe/London:20260213T210000
DTSTAMP:20260420T024416
CREATED:20251015T193729Z
LAST-MODIFIED:20260115T095322Z
UID:9626-1771009200-1771016400@titseybrewingco.com
SUMMARY:AN EVENING OF LIVE JAZZ | with the Sevenoaks Jazz Trio
DESCRIPTION:An Evening of Live Jazz – Friday 13th February | 7 – 9pm \nThe Sevenoaks Jazz Trio are joining us for the evening to fill the Taproom with smooth jazz. It’ll be the perfect romantic evening to spend with loved ones. \nBar: Open ’til 9pm \nKitchen: 5pm – 8pm \nLimited tables available: Book here \nEmail: info@titseybrewingco.com
URL:https://titseybrewingco.com/event/live-jazz-trio-music-titsey-taproom-valentines/
LOCATION:Titsey Taproom\, Clarks Lane Farm\, Tatsfield\, Surrey\, TN16 2JU\, United Kingdom
CATEGORIES:Event,Taproom
ATTACH;FMTTYPE=image/png:https://titseybrewingco.com/wp-content/uploads/2025/10/EXT-Landscape-Event-Headers-25.png
END:VEVENT
BEGIN:VEVENT
DTSTART;TZID=Europe/London:20260214T093000
DTEND;TZID=Europe/London:20260214T233000
DTSTAMP:20260420T024416
CREATED:20250921T150322Z
LAST-MODIFIED:20260115T095946Z
UID:9526-1771061400-1771111800@titseybrewingco.com
SUMMARY:CLASSIC CAR MORNING | with Classic Car Connections
DESCRIPTION:We host a monthly meet for the Classic Car Connections crew. Expect our main car park to be packed with classic cars! \nFor those without a classic car\, you’re welcome to come on down to have a look around! A coffee and a plate of something tasty make a great accompaniment. \nDo you have a pre-2000 or interesting car\, and would like to get a spot in the main car park? Become a member and get yourself a ticket here. \nThe link for non-members to join will be live soon. \nCar event starts at 9.30am. Our kitchen is open for breakfast from 9am – 11.30am. \nTo book a table at the taproom: Book here | 07301 170171
URL:https://titseybrewingco.com/event/classic-car-morning-with-classic-car-connections-2/
LOCATION:Titsey Taproom\, Clarks Lane Farm\, Tatsfield\, Surrey\, TN16 2JU\, United Kingdom
CATEGORIES:Taproom
ATTACH;FMTTYPE=image/png:https://titseybrewingco.com/wp-content/uploads/2025/09/EXT-Landscape-Event-Headers-26.png
END:VEVENT
BEGIN:VEVENT
DTSTART;TZID=Europe/London:20260215T140000
DTEND;TZID=Europe/London:20260215T160000
DTSTAMP:20260420T024416
CREATED:20250929T182511Z
LAST-MODIFIED:20260122T092039Z
UID:9547-1771164000-1771171200@titseybrewingco.com
SUMMARY:GALENTINE'S CANDLE PAINTING WORKSHOP | with The Homemade Mummy
DESCRIPTION:Galentine’s Candle Painting Workshop – Sunday 15th February 2 – 4pm \nJoin us for an afternoon of candle painting in the cosy setting of Titsey Taproom – Galentine’s edition. Guided step by step\, you’ll have the chance to decorate your own candles with a choice of two beautiful designs – perfect for beginners or anyone looking for a fun\, hands-on activity. \nAll materials are provided\, along with easy-to-follow guides and a helping hand throughout. By the end of the workshop\, you’ll take home unique\, hand-painted candles ready to brighten your home or gift to someone special. \nSpaces are limited\, so book early to secure your spot! \nPrice – £30 per person – tickets include one drink \nLocation: The Tanks\, Titsey Taproom \nKitchen hours: 12.30pm – 6pm \nLimited tickets available here.
URL:https://titseybrewingco.com/event/valentines-candle-painting-workshop/
LOCATION:Titsey Taproom\, Clarks Lane Farm\, Tatsfield\, Surrey\, TN16 2JU\, United Kingdom
CATEGORIES:Event,Taproom
ATTACH;FMTTYPE=image/png:https://titseybrewingco.com/wp-content/uploads/2025/09/EXT-Landscape-Event-Headers-22.png
ORGANIZER;CN="The Homemade Mummy":MAILTO:contact@homemademummy.co.uk
END:VEVENT
BEGIN:VEVENT
DTSTART;TZID=Europe/London:20260228T100000
DTEND;TZID=Europe/London:20260228T130000
DTSTAMP:20260420T024416
CREATED:20250921T151015Z
LAST-MODIFIED:20260115T103635Z
UID:9528-1772272800-1772283600@titseybrewingco.com
SUMMARY:BOTTOMLESS BRUNCH
DESCRIPTION:Bottomless Brunch | Saturday 28th February\, from 10am \nKick off your weekend the right way and join us for our first ever bottomless brunch. Enjoy our popular loaded breakfast bagels and muffins\, paired with unlimited bubbly to keep the good times flowing.  \nThis isn’t the kind of brunch where you’re left waiting for a refill – your glass will be generously topped up throughout the morning. We’ll also have jugs of orange juice at every table\, so you can craft your own mimosas! \nIt’s all about good food (and bubbles!)\, great company and a relaxed\, fun start to your weekend. \nTables will fill up quickly\, so book early to avoid disappointment. \nBooking window: 10am – 11.30am. Each booking will have a 1.5hr slot. £20pp includes a breakfast bagel/muffin of your choice and bottomless sparkling. \nTo book a table: click here |  07301 170171 | info@titseybrewingco.com
URL:https://titseybrewingco.com/event/bottomless-brunch-titsey-taproom-brewery/
LOCATION:Titsey Taproom\, Clarks Lane Farm\, Tatsfield\, Surrey\, TN16 2JU\, United Kingdom
CATEGORIES:Event,Taproom
ATTACH;FMTTYPE=image/png:https://titseybrewingco.com/wp-content/uploads/2025/09/EXT-Landscape-Event-Headers-27.png
END:VEVENT
END:VCALENDAR