BEGIN:VCALENDAR
VERSION:2.0
PRODID:-//Titsey Brewing Co. &amp; Taproom - ECPv6.15.12.2//NONSGML v1.0//EN
CALSCALE:GREGORIAN
METHOD:PUBLISH
X-ORIGINAL-URL:https://titseybrewingco.com
X-WR-CALDESC:Events for Titsey Brewing Co. &amp; Taproom
REFRESH-INTERVAL;VALUE=DURATION:PT1H
X-Robots-Tag:noindex
X-PUBLISHED-TTL:PT1H
BEGIN:VTIMEZONE
TZID:Europe/London
BEGIN:DAYLIGHT
TZOFFSETFROM:+0000
TZOFFSETTO:+0100
TZNAME:BST
DTSTART:20240331T010000
END:DAYLIGHT
BEGIN:STANDARD
TZOFFSETFROM:+0100
TZOFFSETTO:+0000
TZNAME:GMT
DTSTART:20241027T010000
END:STANDARD
BEGIN:DAYLIGHT
TZOFFSETFROM:+0000
TZOFFSETTO:+0100
TZNAME:BST
DTSTART:20250330T010000
END:DAYLIGHT
BEGIN:STANDARD
TZOFFSETFROM:+0100
TZOFFSETTO:+0000
TZNAME:GMT
DTSTART:20251026T010000
END:STANDARD
BEGIN:DAYLIGHT
TZOFFSETFROM:+0000
TZOFFSETTO:+0100
TZNAME:BST
DTSTART:20260329T010000
END:DAYLIGHT
BEGIN:STANDARD
TZOFFSETFROM:+0100
TZOFFSETTO:+0000
TZNAME:GMT
DTSTART:20261025T010000
END:STANDARD
END:VTIMEZONE
BEGIN:VEVENT
DTSTART;TZID=Europe/London:20250719T083000
DTEND;TZID=Europe/London:20250719T103000
DTSTAMP:20260424T152800
CREATED:20250624T122936Z
LAST-MODIFIED:20250624T123018Z
UID:9298-1752913800-1752921000@titseybrewingco.com
SUMMARY:PILATES & BRUNCH CLUB | with The Walking Club Community
DESCRIPTION:Pilates & Brunch Club with The Walking Club Community | Friday 19th July\, 8.30am \nJoin us bright and early for another round of Pilates & Brunch Club\, led by the wonderful Alice from The Walking Club Community. \nExpect a feel good morning that kicks off with a 45-minute dynamic Pilates class on the lawn — a perfect way to stretch out\, build strength and set the tone for your day. \nAfter class\, head into the Taproom to enjoy great coffee and a delicious brunch with your fellow movers — a great way to meet like-minded people. \nSuitable for all levels — just bring a mat and some energy. \n*Please note\, this class is not suitable for who those are pregnant.\n*Please bring your own mat.\n*Coffee/brunch not included with free ticket. \n8.35am Introduction\n8.45am: Pilates Class\n9.30am: Coffee & Brunch \nLimited tickets available here.
URL:https://titseybrewingco.com/event/pilates-brunch-club-with-the-walking-club-community/
LOCATION:Titsey Taproom\, Clarks Lane Farm\, Tatsfield\, Surrey\, TN16 2JU\, United Kingdom
CATEGORIES:Event,Taproom
ATTACH;FMTTYPE=image/png:https://titseybrewingco.com/wp-content/uploads/2025/06/EXT-Landscape-Event-Headers.png
END:VEVENT
END:VCALENDAR