BEGIN:VCALENDAR
VERSION:2.0
PRODID:-//Titsey Brewing Co. &amp; Taproom - ECPv6.15.12.2//NONSGML v1.0//EN
CALSCALE:GREGORIAN
METHOD:PUBLISH
X-ORIGINAL-URL:https://titseybrewingco.com
X-WR-CALDESC:Events for Titsey Brewing Co. &amp; Taproom
REFRESH-INTERVAL;VALUE=DURATION:PT1H
X-Robots-Tag:noindex
X-PUBLISHED-TTL:PT1H
BEGIN:VTIMEZONE
TZID:Europe/London
BEGIN:DAYLIGHT
TZOFFSETFROM:+0000
TZOFFSETTO:+0100
TZNAME:BST
DTSTART:20240331T010000
END:DAYLIGHT
BEGIN:STANDARD
TZOFFSETFROM:+0100
TZOFFSETTO:+0000
TZNAME:GMT
DTSTART:20241027T010000
END:STANDARD
BEGIN:DAYLIGHT
TZOFFSETFROM:+0000
TZOFFSETTO:+0100
TZNAME:BST
DTSTART:20250330T010000
END:DAYLIGHT
BEGIN:STANDARD
TZOFFSETFROM:+0100
TZOFFSETTO:+0000
TZNAME:GMT
DTSTART:20251026T010000
END:STANDARD
BEGIN:DAYLIGHT
TZOFFSETFROM:+0000
TZOFFSETTO:+0100
TZNAME:BST
DTSTART:20260329T010000
END:DAYLIGHT
BEGIN:STANDARD
TZOFFSETFROM:+0100
TZOFFSETTO:+0000
TZNAME:GMT
DTSTART:20261025T010000
END:STANDARD
END:VTIMEZONE
BEGIN:VEVENT
DTSTART;VALUE=DATE:20251017
DTEND;VALUE=DATE:20251020
DTSTAMP:20260422T093127
CREATED:20250824T111507Z
LAST-MODIFIED:20251019T100542Z
UID:9441-1760659200-1760918399@titseybrewingco.com
SUMMARY:Titsey Brewing Co. Green Hop Beer Festival 2025
DESCRIPTION:  \nTitsey Brewing Co. Green Hop Beer Festival 2025 | 17 – 19 October \nCelebrate the return of fresh Green Hop beers at Titsey Brewing Co’s second annual Beer Festival\, taking place 17–19 October 2025 at our Taproom\, near Oxted\, Surrey. Enjoy three days of unique small-batch brews\, live music and festival-style food in the beautiful Surrey Hills countryside. \n  \n       \n  \n⸻ \n \nGreen Hop Beer Festival Highlights\n•Sample unique beers brewed with fresh green hops\, available only once a year. \n•Explore over 40 guest beers from local breweries\, including a special selection of 21 Green Hop beers – probably the most in one place at the same time\, ever? \n•For non-beer drinkers\, our bar will serve wines\, spirits\, and soft drinks throughout the festival. \n  \n⸻ \n \nLIVE MUSIC & FESTIVAL FOOD\n•A fantastic line-up of live music for everyone to enjoy\, including performances from Camellia\, Decibel\, Mica Bernard and more. \n•Our chefs will be serving festival-style food directly from the Taproom kitchen\, perfect for pairing with your drinks. \n  \n⸻ \n  \nTICKET INFORMATION\n  \nWhat’s Included:\n•Free Titsey Brewing beer glass and 1 pint of beer from our festival bar. \n•Beers at the festival bar are £5 per pint. \n•If you’re not drinking\, free tickets are available (1 free ticket per 2 full-paying tickets). \n \nEvent Days & Times:\n•Friday 17th October: 4pm – 10pm \n•Saturday 18th October: 12pm – 10pm \n•Sunday 19th October: 12pm – 4pm (Taproom is open until later) \n \nImportant Info:\n•Non-drinkers\, designated drivers\, and children are welcome – please book free tickets where applicable. \n•Tickets are non-refundable and may sell out before the event. \n•This is a rain or shine event. \n•Dogs are welcome. \n•No outside food or alcohol is permitted on site. \n  \n⸻ \n \nExperience one of Surrey’s best beer festivals with a weekend full of fresh Green Hop beers\, great food\, live music and stunning outdoor views. Don’t miss out – book your tickets early and join us for a celebration of green hops like no other. \n 
URL:https://titseybrewingco.com/event/green-hop-beer-festival/
LOCATION:Titsey Brewing Co.\, Clarks Lane Farm\, Clarks Lane\, Tatsfield\, Surrey\, TN16 2JU\, United Kingdom
CATEGORIES:Brewery,Event,Taproom
ATTACH;FMTTYPE=image/jpeg:https://titseybrewingco.com/wp-content/uploads/2025/08/beer-festival-events.jpg
END:VEVENT
END:VCALENDAR