BEGIN:VCALENDAR
VERSION:2.0
PRODID:-//Titsey Brewing Co. &amp; Taproom - ECPv6.15.12.2//NONSGML v1.0//EN
CALSCALE:GREGORIAN
METHOD:PUBLISH
X-WR-CALNAME:Titsey Brewing Co. &amp; Taproom
X-ORIGINAL-URL:https://titseybrewingco.com
X-WR-CALDESC:Events for Titsey Brewing Co. &amp; Taproom
REFRESH-INTERVAL;VALUE=DURATION:PT1H
X-Robots-Tag:noindex
X-PUBLISHED-TTL:PT1H
BEGIN:VTIMEZONE
TZID:Europe/London
BEGIN:DAYLIGHT
TZOFFSETFROM:+0000
TZOFFSETTO:+0100
TZNAME:BST
DTSTART:20240331T010000
END:DAYLIGHT
BEGIN:STANDARD
TZOFFSETFROM:+0100
TZOFFSETTO:+0000
TZNAME:GMT
DTSTART:20241027T010000
END:STANDARD
BEGIN:DAYLIGHT
TZOFFSETFROM:+0000
TZOFFSETTO:+0100
TZNAME:BST
DTSTART:20250330T010000
END:DAYLIGHT
BEGIN:STANDARD
TZOFFSETFROM:+0100
TZOFFSETTO:+0000
TZNAME:GMT
DTSTART:20251026T010000
END:STANDARD
BEGIN:DAYLIGHT
TZOFFSETFROM:+0000
TZOFFSETTO:+0100
TZNAME:BST
DTSTART:20260329T010000
END:DAYLIGHT
BEGIN:STANDARD
TZOFFSETFROM:+0100
TZOFFSETTO:+0000
TZNAME:GMT
DTSTART:20261025T010000
END:STANDARD
END:VTIMEZONE
BEGIN:VEVENT
DTSTART;TZID=Europe/London:20251026T090000
DTEND;TZID=Europe/London:20251102T113000
DTSTAMP:20260414T235352
CREATED:20250921T145452Z
LAST-MODIFIED:20250929T182616Z
UID:9511-1761469200-1762083000@titseybrewingco.com
SUMMARY:PUP CRAWL (SPOOKY EDITION) | Community Dog Walk & Brunch
DESCRIPTION:Pup Crawl (Spooky Edition) – Community Dog Walk\, followed by brunch & coffee at Titsey Taproom\nSunday 26th October | 9.15am meet\, to set off by 9.30am \nJoin us for a tail-wagging Sunday morning as we set off on a walk led by Kirsty and her 2 beautiful greys\, Ava & Mendi. The route takes you past some beautiful views of the North Downs\, around Park Woods\, across a golf course and through the church. There is a couple of roads to cross and a few steps to climb. \nWe’ll meet at Titsey Taproom at 9:15am where you can park (in the overflow car park please)\, then set off together\, and finish back at the Taproom – just in time for well-earned coffee and brunch (not included with the ticket). \nThis walk is a chance to stretch your legs\, meet fellow dog-lovers\, and raise funds for a brilliant cause – all donations given on the day will go directly to Last Chance Animal Rescue. Please bring the correct money you would like to donate. \nImportant info: \n\nDogs must be kept on a lead at all times.\nGood footwear is recommended – we’ll be covering mixed terrain.\nOwners are fully responsible for themselves and their dogs during the walk. Bring and use a muzzle if necessary and dispose of dog poo appropriately. Titsey Brewing Co. cannot accept liability for any injuries\, incidents\, or damages.\nAll dogs are welcome. Please give space to anxious/nervous/reactive dogs.\n\nCome along\, bring your four-legged friends and get their spookiest Halloween outfit on – best dressed pup wins a puppacino/doggy ice cream on the house! \nFree tickets here. \n   \n 
URL:https://titseybrewingco.com/event/pup-crawl-community-dog-walk-brunch-sunday-26th-october/
LOCATION:Titsey Taproom\, Clarks Lane Farm\, Tatsfield\, Surrey\, TN16 2JU\, United Kingdom
CATEGORIES:Event,Taproom
ATTACH;FMTTYPE=image/png:https://titseybrewingco.com/wp-content/uploads/2025/08/EXT-Landscape-Event-Headers-9-1.png
END:VEVENT
END:VCALENDAR