BEGIN:VCALENDAR
VERSION:2.0
PRODID:-//Titsey Brewing Co. &amp; Taproom - ECPv6.15.12.2//NONSGML v1.0//EN
CALSCALE:GREGORIAN
METHOD:PUBLISH
X-WR-CALNAME:Titsey Brewing Co. &amp; Taproom
X-ORIGINAL-URL:https://titseybrewingco.com
X-WR-CALDESC:Events for Titsey Brewing Co. &amp; Taproom
REFRESH-INTERVAL;VALUE=DURATION:PT1H
X-Robots-Tag:noindex
X-PUBLISHED-TTL:PT1H
BEGIN:VTIMEZONE
TZID:Europe/London
BEGIN:DAYLIGHT
TZOFFSETFROM:+0000
TZOFFSETTO:+0100
TZNAME:BST
DTSTART:20240331T010000
END:DAYLIGHT
BEGIN:STANDARD
TZOFFSETFROM:+0100
TZOFFSETTO:+0000
TZNAME:GMT
DTSTART:20241027T010000
END:STANDARD
BEGIN:DAYLIGHT
TZOFFSETFROM:+0000
TZOFFSETTO:+0100
TZNAME:BST
DTSTART:20250330T010000
END:DAYLIGHT
BEGIN:STANDARD
TZOFFSETFROM:+0100
TZOFFSETTO:+0000
TZNAME:GMT
DTSTART:20251026T010000
END:STANDARD
BEGIN:DAYLIGHT
TZOFFSETFROM:+0000
TZOFFSETTO:+0100
TZNAME:BST
DTSTART:20260329T010000
END:DAYLIGHT
BEGIN:STANDARD
TZOFFSETFROM:+0100
TZOFFSETTO:+0000
TZNAME:GMT
DTSTART:20261025T010000
END:STANDARD
END:VTIMEZONE
BEGIN:VEVENT
DTSTART;TZID=Europe/London:20251214T090000
DTEND;TZID=Europe/London:20251221T113000
DTSTAMP:20260419T130656
CREATED:20251108T134726Z
LAST-MODIFIED:20251108T134726Z
UID:9663-1765702800-1766316600@titseybrewingco.com
SUMMARY:PUP CRAWL - Community Dog Walk & Brunch | Sunday 14th December
DESCRIPTION:Pup Crawl – Community Dog Walk\, followed by brunch & coffee at Titsey Taproom\nSunday 14th December | 9.15am meet\, to set off by 9.30am \nGrab a free ticket to RSVP here. \nJoin us for a tail-wagging Sunday morning as we set off on a walk led by Kirsty and her 2 beautiful greys\, Ava & Mendi. The route takes you past some beautiful views of the North Downs\, around Park Woods\, across a golf course and through the church. There is a couple of roads to cross and a few steps to climb. \nWe’ll meet at Titsey Taproom at 9:15am where you can park (in the overflow car park please)\, then set off together\, and finish back at the Taproom – just in time for well-earned coffee and brunch (not included with the ticket). \nThis walk is a chance to stretch your legs\, meet fellow dog-lovers\, and raise funds for a brilliant cause – all donations given on the day will go directly to Last Chance Animal Rescue. Please bring the correct money you would like to donate. \nImportant info: \n\nDogs must be kept on a lead at all times.\nGood footwear is recommended – we’ll be covering mixed terrain.\nOwners are fully responsible for themselves and their dogs during the walk. Bring and use a muzzle if necessary and dispose of dog poo appropriately. Titsey Brewing Co. cannot accept liability for any injuries\, incidents\, or damages.\nAll dogs are welcome. Please give space to anxious/nervous/reactive dogs.\n\nCome along\, bring your four-legged friends\, and start your Sunday right in the great outdoors! \n   \n 
URL:https://titseybrewingco.com/event/community-dog-walk-brunch-titsey-taproom-2/
LOCATION:Titsey Taproom\, Clarks Lane Farm\, Tatsfield\, Surrey\, TN16 2JU\, United Kingdom
CATEGORIES:Event,Taproom
ATTACH;FMTTYPE=image/png:https://titseybrewingco.com/wp-content/uploads/2025/08/EXT-Landscape-Event-Headers-19.png
END:VEVENT
BEGIN:VEVENT
DTSTART;TZID=Europe/London:20251218T190000
DTEND;TZID=Europe/London:20251218T200000
DTSTAMP:20260419T130656
CREATED:20251108T135304Z
LAST-MODIFIED:20251108T135304Z
UID:9665-1766084400-1766088000@titseybrewingco.com
SUMMARY:HARK! THE OXTED BRASS BAND PLAY | A Night of Live Carols
DESCRIPTION:*FULLY BOOKED* Please email us to be added to the waiting list\, in case of last minute cancellations. \nHark! The Oxted Brass Band Play –  Thursday 18th December | 7 – 8pm \nWe’re delighted to have the Oxted Brass Band join us for the evening to fill the Taproom with festive cheer. They’ll be carol sheets on the tables\, mulled wine on tap and of course\, great beer and food. It’ll be a a proper seasonal treat to get you feeling merry. \nBar: Open ’til 9pm \nKitchen: 5pm – 8pm
URL:https://titseybrewingco.com/event/live-brass-band-carols-christmas-titsey-taproom/
LOCATION:Titsey Taproom\, Clarks Lane Farm\, Tatsfield\, Surrey\, TN16 2JU\, United Kingdom
CATEGORIES:Event,Taproom
ATTACH;FMTTYPE=image/png:https://titseybrewingco.com/wp-content/uploads/2025/10/16.png
END:VEVENT
END:VCALENDAR