BEGIN:VCALENDAR
VERSION:2.0
PRODID:-//Titsey Brewing Co. &amp; Taproom - ECPv6.15.12.2//NONSGML v1.0//EN
CALSCALE:GREGORIAN
METHOD:PUBLISH
X-WR-CALNAME:Titsey Brewing Co. &amp; Taproom
X-ORIGINAL-URL:https://titseybrewingco.com
X-WR-CALDESC:Events for Titsey Brewing Co. &amp; Taproom
REFRESH-INTERVAL;VALUE=DURATION:PT1H
X-Robots-Tag:noindex
X-PUBLISHED-TTL:PT1H
BEGIN:VTIMEZONE
TZID:Europe/London
BEGIN:DAYLIGHT
TZOFFSETFROM:+0000
TZOFFSETTO:+0100
TZNAME:BST
DTSTART:20240331T010000
END:DAYLIGHT
BEGIN:STANDARD
TZOFFSETFROM:+0100
TZOFFSETTO:+0000
TZNAME:GMT
DTSTART:20241027T010000
END:STANDARD
BEGIN:DAYLIGHT
TZOFFSETFROM:+0000
TZOFFSETTO:+0100
TZNAME:BST
DTSTART:20250330T010000
END:DAYLIGHT
BEGIN:STANDARD
TZOFFSETFROM:+0100
TZOFFSETTO:+0000
TZNAME:GMT
DTSTART:20251026T010000
END:STANDARD
BEGIN:DAYLIGHT
TZOFFSETFROM:+0000
TZOFFSETTO:+0100
TZNAME:BST
DTSTART:20260329T010000
END:DAYLIGHT
BEGIN:STANDARD
TZOFFSETFROM:+0100
TZOFFSETTO:+0000
TZNAME:GMT
DTSTART:20261025T010000
END:STANDARD
END:VTIMEZONE
BEGIN:VEVENT
DTSTART;TZID=Europe/London:20251204T190000
DTEND;TZID=Europe/London:20251204T210000
DTSTAMP:20260420T074417
CREATED:20250921T150140Z
LAST-MODIFIED:20251130T213627Z
UID:9521-1764874800-1764882000@titseybrewingco.com
SUMMARY:CHRISTMAS QUIZ NIGHT
DESCRIPTION:Our monthly quiz night returns to the Titsey Taproom! This night is always SO popular so grab your team and get a table booked asap. We will get fully booked…fast! \nTime: from 7pm onwards \nTeams: from 2 – 6 people \nOur Taproom kitchen will be open until 8pm\, serving up burgers & delicious sides. \nWe’re going bigger ‘n’ better with prizes for our Christmas Quiz – even the losers will get something! Entry will be £3pp (to be paid on the night). \nTo book a table: call 07301 170171 or email us at info@titseybrewingco.com
URL:https://titseybrewingco.com/event/quiz-night-3/
LOCATION:Titsey Taproom\, Clarks Lane Farm\, Tatsfield\, Surrey\, TN16 2JU\, United Kingdom
CATEGORIES:Event,Taproom
ATTACH;FMTTYPE=image/png:https://titseybrewingco.com/wp-content/uploads/2025/02/EXT-Landscape-Event-Headers-10.png
END:VEVENT
END:VCALENDAR