BEGIN:VCALENDAR
VERSION:2.0
PRODID:-//Titsey Brewing Co. &amp; Taproom - ECPv6.15.12.2//NONSGML v1.0//EN
CALSCALE:GREGORIAN
METHOD:PUBLISH
X-ORIGINAL-URL:https://titseybrewingco.com
X-WR-CALDESC:Events for Titsey Brewing Co. &amp; Taproom
REFRESH-INTERVAL;VALUE=DURATION:PT1H
X-Robots-Tag:noindex
X-PUBLISHED-TTL:PT1H
BEGIN:VTIMEZONE
TZID:Europe/London
BEGIN:DAYLIGHT
TZOFFSETFROM:+0000
TZOFFSETTO:+0100
TZNAME:BST
DTSTART:20240331T010000
END:DAYLIGHT
BEGIN:STANDARD
TZOFFSETFROM:+0100
TZOFFSETTO:+0000
TZNAME:GMT
DTSTART:20241027T010000
END:STANDARD
BEGIN:DAYLIGHT
TZOFFSETFROM:+0000
TZOFFSETTO:+0100
TZNAME:BST
DTSTART:20250330T010000
END:DAYLIGHT
BEGIN:STANDARD
TZOFFSETFROM:+0100
TZOFFSETTO:+0000
TZNAME:GMT
DTSTART:20251026T010000
END:STANDARD
BEGIN:DAYLIGHT
TZOFFSETFROM:+0000
TZOFFSETTO:+0100
TZNAME:BST
DTSTART:20260329T010000
END:DAYLIGHT
BEGIN:STANDARD
TZOFFSETFROM:+0100
TZOFFSETTO:+0000
TZNAME:GMT
DTSTART:20261025T010000
END:STANDARD
END:VTIMEZONE
BEGIN:VEVENT
DTSTART;TZID=Europe/London:20251210T170000
DTEND;TZID=Europe/London:20251210T210000
DTSTAMP:20260420T074622
CREATED:20251122T094516Z
LAST-MODIFIED:20251122T095109Z
UID:9673-1765386000-1765400400@titseybrewingco.com
SUMMARY:TITSEY TAPROOM CHRISTMAS MARKET
DESCRIPTION:Titsey Taproom Christmas Market –  Wednesday 10th December | 5 – 9pm \nWe don’t open on Wednesdays unless it’s for something special.. \nStep into Christmas at the Taproom as we transform the place into a Christmas Market – after all\, ’tis the season to shop small and support local. Expect a range of stalls with everything from handmade gifts and festive decorations to artisan chocolate\, artwork and jewellery from brilliant local makers. \nAdd in live music\, wood-fired pizza\, warm crêpes\, mulled wine\, mince pies and the usual good stuff from our bar\, and you’ve got a proper festive treat worth bundling up for. \nFree entry. Kids and dogs welcome as always.  \nRSVP here. \nBar: Open ’til 9pm \nKitchen closed\, but there will be a wood-fired pizza van\, crêpes\, as well as mince pies and sweet treats behind the bar. \nIn collaboration with LK Pop Up Fayres.
URL:https://titseybrewingco.com/event/christmas-market-festive-fair-titsey-taproom/
LOCATION:Titsey Taproom\, Clarks Lane Farm\, Tatsfield\, Surrey\, TN16 2JU\, United Kingdom
CATEGORIES:Event,Taproom
ATTACH;FMTTYPE=image/png:https://titseybrewingco.com/wp-content/uploads/2025/11/EXT-Landscape-Event-Headers-20.png
END:VEVENT
END:VCALENDAR